BEGIN:VCALENDAR
VERSION:2.0
PRODID:-//Plone.org//NONSGML plone.app.event//EN
X-WR-TIMEZONE:Europe/Madrid
BEGIN:VEVENT
SUMMARY:SEMPRE I ARA con la poeta Laia Malo
DTSTART;TZID=Europe/Madrid;VALUE=DATE-TIME:20260428T190000
DTEND;TZID=Europe/Madrid;VALUE=DATE-TIME:20260428T203000
DTSTAMP;VALUE=DATE-TIME:20260423T103043Z
UID:fcba5fb651034b83a3e94bb971ccf5c8@www.paeria.cat
CATEGORIES:Cultura,Libros y literatura
CREATED;VALUE=DATE-TIME:20260306T124554Z
DESCRIPTION:Programa de Sant Jordi -- Lleida se suma a l'ANY CLEMENTINA AR
 DERIU con motivo de los 50 años de su muerte
LAST-MODIFIED;VALUE=DATE-TIME:20260415T085938Z
URL:https://www.paeria.cat/es/actualidad/agenda/sempre-i-ara-con-la-poeta-
 laia-malo
END:VEVENT
BEGIN:VTIMEZONE
TZID:Europe/Madrid
X-LIC-LOCATION:Europe/Madrid
BEGIN:DAYLIGHT
DTSTART;VALUE=DATE-TIME:20260329T030000
TZNAME:CEST
TZOFFSETFROM:+0100
TZOFFSETTO:+0200
END:DAYLIGHT
END:VTIMEZONE
END:VCALENDAR
