BEGIN:VCALENDAR
VERSION:2.0
PRODID:-//Plone.org//NONSGML plone.app.event//EN
X-WR-TIMEZONE:Europe/Madrid
BEGIN:VEVENT
SUMMARY:Sesión para bebés: A-ANIMAL\, con Gisela Llimona
DTSTART;TZID=Europe/Madrid;VALUE=DATE-TIME:20250521T173000
DTEND;TZID=Europe/Madrid;VALUE=DATE-TIME:20250521T183000
DTSTAMP;VALUE=DATE-TIME:20260422T200236Z
UID:b826774e3a4e4add80e34d8b21ca7c91@www.paeria.cat
CATEGORIES:Libros y literatura,Cultura,Infantil
CREATED;VALUE=DATE-TIME:20250411T093157Z
DESCRIPTION:Gisela Llimona nos enseñará su cuento preferido\, A-Animal! 
 Guiados por ella aprenderemos los sonidos de los animales\, cantaremos alg
 una canción en la que los protagonistas son ellos y viajaremos con los m
 ás pequeños por el mundo de las bestias de una manera sensorial. Colores
 \, canciones\, sonidos... nos ayudarán a conocer y reconocer a los animal
 es para aprender a quererlos y respetarlos ya desde pequeños. Con inscrip
 ción previa en la biblioteca.
LAST-MODIFIED;VALUE=DATE-TIME:20250514T065723Z
URL:https://www.paeria.cat/es/actualidad/agenda/sesion-para-bebes-a-animal
 -con-gisela-llimona
END:VEVENT
BEGIN:VTIMEZONE
TZID:Europe/Madrid
X-LIC-LOCATION:Europe/Madrid
BEGIN:DAYLIGHT
DTSTART;VALUE=DATE-TIME:20250330T030000
TZNAME:CEST
TZOFFSETFROM:+0100
TZOFFSETTO:+0200
END:DAYLIGHT
END:VTIMEZONE
END:VCALENDAR
