BEGIN:VCALENDAR
VERSION:2.0
PRODID:-//Plone.org//NONSGML plone.app.event//EN
X-WR-TIMEZONE:Europe/Madrid
BEGIN:VEVENT
SUMMARY:Show Drag con Oxy Tocina
DTSTART;TZID=Europe/Madrid;VALUE=DATE-TIME:20260306T193000
DTEND;TZID=Europe/Madrid;VALUE=DATE-TIME:20260306T200000
DTSTAMP;VALUE=DATE-TIME:20260423T002853Z
UID:ec2c247a255c49f29d55454676387970@www.paeria.cat
CREATED;VALUE=DATE-TIME:20260305T093714Z
DESCRIPTION:En el marco del Taller Drag que ofrecemos cada viernes\, esta 
 semana disfrutaremos de un espectáculo Drag gratuito con la artista lerid
 ana Oxy Tocina
LAST-MODIFIED;VALUE=DATE-TIME:20260305T093730Z
URL:https://www.paeria.cat/es/actualidad/agenda/show-drag-con-oxy-tocina
END:VEVENT
BEGIN:VTIMEZONE
TZID:Europe/Madrid
X-LIC-LOCATION:Europe/Madrid
BEGIN:STANDARD
DTSTART;VALUE=DATE-TIME:20251026T020000
TZNAME:CET
TZOFFSETFROM:+0200
TZOFFSETTO:+0100
END:STANDARD
END:VTIMEZONE
END:VCALENDAR
