BEGIN:VCALENDAR
VERSION:2.0
PRODID:-//Plone.org//NONSGML plone.app.event//EN
X-WR-TIMEZONE:Europe/Madrid
BEGIN:VEVENT
SUMMARY:Somnis del bosc\, con Fem música
DTSTART;TZID=Europe/Madrid;VALUE=DATE-TIME:20260525T173000
DTEND;TZID=Europe/Madrid;VALUE=DATE-TIME:20260525T183000
DTSTAMP;VALUE=DATE-TIME:20260423T033459Z
UID:c811eb7181e04fe993977fcf92bdf04d@www.paeria.cat
CREATED;VALUE=DATE-TIME:20260414T094514Z
DESCRIPTION:!Vuela como un pájaro y siente la lluvia en un bosque mágico
  lleno de sonidos e instrumento sorprendentes! Para familias con bebés de
  0 a 3 años. Inscripción previa.
LAST-MODIFIED;VALUE=DATE-TIME:20260415T165131Z
URL:https://www.paeria.cat/es/actualidad/agenda/somnis-del-bosc-con-fem-mu
 sica
END:VEVENT
BEGIN:VTIMEZONE
TZID:Europe/Madrid
X-LIC-LOCATION:Europe/Madrid
BEGIN:DAYLIGHT
DTSTART;VALUE=DATE-TIME:20260329T030000
TZNAME:CEST
TZOFFSETFROM:+0100
TZOFFSETTO:+0200
END:DAYLIGHT
END:VTIMEZONE
END:VCALENDAR
