BEGIN:VCALENDAR
VERSION:2.0
PRODID:-//Plone.org//NONSGML plone.app.event//EN
X-WR-TIMEZONE:Europe/Madrid
BEGIN:VEVENT
SUMMARY:Sueños de Navidad. Veus.kat
DTSTART;TZID=Europe/Madrid;VALUE=DATE-TIME:20251228T190000
DTEND;TZID=Europe/Madrid;VALUE=DATE-TIME:20251228T201500
DTSTAMP;VALUE=DATE-TIME:20260420T082535Z
UID:9a359952ba4b4985b9a95f6c6a63315d@www.paeria.cat
CATEGORIES:Cultura,Música
CREATED;VALUE=DATE-TIME:20250704T073100Z
LAST-MODIFIED;VALUE=DATE-TIME:20251212T132759Z
URL:https://www.paeria.cat/es/actualidad/agenda/suenos-de-navidad-veus.kat
END:VEVENT
BEGIN:VTIMEZONE
TZID:Europe/Madrid
X-LIC-LOCATION:Europe/Madrid
BEGIN:STANDARD
DTSTART;VALUE=DATE-TIME:20251026T020000
TZNAME:CET
TZOFFSETFROM:+0200
TZOFFSETTO:+0100
END:STANDARD
END:VTIMEZONE
END:VCALENDAR
