BEGIN:VCALENDAR
VERSION:2.0
PRODID:-//Plone.org//NONSGML plone.app.event//EN
X-WR-TIMEZONE:Europe/Madrid
BEGIN:VEVENT
SUMMARY:Taller/Charla: Conoce el LinkedIn
DTSTART;TZID=Europe/Madrid;VALUE=DATE-TIME:20260121T173000
DTEND;TZID=Europe/Madrid;VALUE=DATE-TIME:20260121T193000
DTSTAMP;VALUE=DATE-TIME:20260422T122927Z
UID:1e04d3a5ec4e48fd9544975f422268b1@www.paeria.cat
CATEGORIES:Charlas y conferencias,Empleo,HÔME,Talleres y cursos,Jóvenes
CREATED;VALUE=DATE-TIME:20260112T131820Z
DESCRIPTION:Cómo crear un perfil en LinkedIn y cómo gestionarlo para pod
 er buscar trabajo en esta red social.
LAST-MODIFIED;VALUE=DATE-TIME:20260202T125511Z
URL:https://www.paeria.cat/es/actualidad/agenda/taller-charla-conoce-el-li
 nkedin
END:VEVENT
BEGIN:VTIMEZONE
TZID:Europe/Madrid
X-LIC-LOCATION:Europe/Madrid
BEGIN:STANDARD
DTSTART;VALUE=DATE-TIME:20251026T020000
TZNAME:CET
TZOFFSETFROM:+0200
TZOFFSETTO:+0100
END:STANDARD
END:VTIMEZONE
END:VCALENDAR
