BEGIN:VCALENDAR
VERSION:2.0
PRODID:-//Plone.org//NONSGML plone.app.event//EN
X-WR-TIMEZONE:Europe/Madrid
BEGIN:VEVENT
SUMMARY:Taller Cuerpo a cuerpo a cargo de Cia Voël
DTSTART;TZID=Europe/Madrid;VALUE=DATE-TIME:20241111T173000
DTEND;TZID=Europe/Madrid;VALUE=DATE-TIME:20241111T183000
DTSTAMP;VALUE=DATE-TIME:20260422T144727Z
UID:1cade5ae20434c4d8240a80949fb37f2@www.paeria.cat
CREATED;VALUE=DATE-TIME:20241018T122648Z
LAST-MODIFIED;VALUE=DATE-TIME:20241018T122840Z
URL:https://www.paeria.cat/es/actualidad/agenda/taller-cuerpo-a-cuerpo-a-c
 argo-de-cia-voel
END:VEVENT
BEGIN:VTIMEZONE
TZID:Europe/Madrid
X-LIC-LOCATION:Europe/Madrid
BEGIN:STANDARD
DTSTART;VALUE=DATE-TIME:20241027T020000
TZNAME:CET
TZOFFSETFROM:+0200
TZOFFSETTO:+0100
END:STANDARD
END:VTIMEZONE
END:VCALENDAR
