BEGIN:VCALENDAR
VERSION:2.0
PRODID:-//Plone.org//NONSGML plone.app.event//EN
X-WR-TIMEZONE:Europe/Madrid
BEGIN:VEVENT
SUMMARY:Taller. Cultivo del huerto en bancales y sin labrar. ¿Qué ventaj
 as? ¿Cómo prepararlos? ¿Cómo se cultiva?
DTSTART;TZID=Europe/Madrid;VALUE=DATE-TIME:20240323T100000
DTEND;TZID=Europe/Madrid;VALUE=DATE-TIME:20240323T130000
DTSTAMP;VALUE=DATE-TIME:20260422T121758Z
UID:dff9035365914449878ed08386b2d74f@www.paeria.cat
CATEGORIES:Tallers i cursos
CREATED;VALUE=DATE-TIME:20240311T111818Z
DESCRIPTION:Ecoactividades 2024
LAST-MODIFIED;VALUE=DATE-TIME:20240318T111226Z
URL:https://www.paeria.cat/es/actualidad/agenda/taller-cultivo-del-huerto-
 en-bancales-y-sin-labrar-que-ventajas-como-prepararlos-como-se-cultiva
END:VEVENT
BEGIN:VTIMEZONE
TZID:Europe/Madrid
X-LIC-LOCATION:Europe/Madrid
BEGIN:STANDARD
DTSTART;VALUE=DATE-TIME:20231029T020000
TZNAME:CET
TZOFFSETFROM:+0200
TZOFFSETTO:+0100
END:STANDARD
END:VTIMEZONE
END:VCALENDAR
