BEGIN:VCALENDAR
VERSION:2.0
PRODID:-//Plone.org//NONSGML plone.app.event//EN
X-WR-TIMEZONE:Europe/Madrid
BEGIN:VEVENT
SUMMARY:Taller en familia de dibujo y narración
DTSTART;TZID=Europe/Madrid;VALUE=DATE-TIME:20240730T173000
DTSTAMP;VALUE=DATE-TIME:20260423T023124Z
UID:d75f8500debe4182bc253730ee5b63ac@www.paeria.cat
CATEGORIES:Infantil,Talleres y cursos,Cultura,Arte,Familiar
CREATED;VALUE=DATE-TIME:20240716T155824Z
LAST-MODIFIED;VALUE=DATE-TIME:20250514T115954Z
URL:https://www.paeria.cat/es/actualidad/agenda/taller-en-familia-de-dibuj
 o-y-narracion/2024-07-30
END:VEVENT
BEGIN:VTIMEZONE
TZID:Europe/Madrid
X-LIC-LOCATION:Europe/Madrid
BEGIN:DAYLIGHT
DTSTART;VALUE=DATE-TIME:20240331T030000
TZNAME:CEST
TZOFFSETFROM:+0100
TZOFFSETTO:+0200
END:DAYLIGHT
END:VTIMEZONE
END:VCALENDAR
