BEGIN:VCALENDAR
VERSION:2.0
PRODID:-//Plone.org//NONSGML plone.app.event//EN
X-WR-TIMEZONE:Europe/Madrid
BEGIN:VEVENT
SUMMARY:Taller. Las plantas indicadoras. ¿De qué nos hablan las plantas 
 de nuestro huerto?
DTSTART;TZID=Europe/Madrid;VALUE=DATE-TIME:20230923T100000
DTEND;TZID=Europe/Madrid;VALUE=DATE-TIME:20230923T130000
DTSTAMP;VALUE=DATE-TIME:20260422T135749Z
UID:b9326cad21b948fda06cc460acc717ad@www.paeria.cat
CATEGORIES:Talleres y cursos
CREATED;VALUE=DATE-TIME:20230829T095628Z
DESCRIPTION:Ecoactividades 2023
LAST-MODIFIED;VALUE=DATE-TIME:20230918T090902Z
URL:https://www.paeria.cat/es/actualidad/agenda/taller-las-plantas-indicad
 oras-de-que-nos-hablan-las-plantas-de-nuestro-huerto
END:VEVENT
BEGIN:VTIMEZONE
TZID:Europe/Madrid
X-LIC-LOCATION:Europe/Madrid
BEGIN:DAYLIGHT
DTSTART;VALUE=DATE-TIME:20230326T030000
TZNAME:CEST
TZOFFSETFROM:+0100
TZOFFSETTO:+0200
END:DAYLIGHT
END:VTIMEZONE
END:VCALENDAR
