BEGIN:VCALENDAR
VERSION:2.0
PRODID:-//Plone.org//NONSGML plone.app.event//EN
X-WR-TIMEZONE:Europe/Madrid
BEGIN:VEVENT
SUMMARY:Taller- Nuestros cuerpos. Nuestros relatos. Acción pedagógica re
 volucionaria
DTSTART;TZID=Europe/Madrid;VALUE=DATE-TIME:20240510T103000
DTSTAMP;VALUE=DATE-TIME:20260422T134805Z
UID:b00b442e25594403ae7ca7a393644c82@www.paeria.cat
CATEGORIES:Talleres y cursos,Arte,Cultura
CREATED;VALUE=DATE-TIME:20240503T093212Z
LAST-MODIFIED;VALUE=DATE-TIME:20240503T093220Z
URL:https://www.paeria.cat/es/actualidad/agenda/taller-nuestros-cuerpos-nu
 estros-relatos-accion-pedagogica-revolucionaria
END:VEVENT
BEGIN:VTIMEZONE
TZID:Europe/Madrid
X-LIC-LOCATION:Europe/Madrid
BEGIN:DAYLIGHT
DTSTART;VALUE=DATE-TIME:20240331T030000
TZNAME:CEST
TZOFFSETFROM:+0100
TZOFFSETTO:+0200
END:DAYLIGHT
END:VTIMEZONE
END:VCALENDAR
