BEGIN:VCALENDAR
VERSION:2.0
PRODID:-//Plone.org//NONSGML plone.app.event//EN
X-WR-TIMEZONE:Europe/Madrid
BEGIN:VEVENT
SUMMARY:Talleres- Escucha\, descubre y crea tu música
DTSTART;TZID=Europe/Madrid;VALUE=DATE-TIME:20240927T093000
DTSTAMP;VALUE=DATE-TIME:20260423T023236Z
UID:02f4659c38fe47118aa9a102e60b8a32@www.paeria.cat
CATEGORIES:Talleres y cursos,Música,Cultura
CREATED;VALUE=DATE-TIME:20240724T162024Z
LAST-MODIFIED;VALUE=DATE-TIME:20240906T065208Z
URL:https://www.paeria.cat/es/actualidad/agenda/talleres-escucha-descubre-
 y-crea-tu-musica/2024-09-27
END:VEVENT
BEGIN:VTIMEZONE
TZID:Europe/Madrid
X-LIC-LOCATION:Europe/Madrid
BEGIN:DAYLIGHT
DTSTART;VALUE=DATE-TIME:20240331T030000
TZNAME:CEST
TZOFFSETFROM:+0100
TZOFFSETTO:+0200
END:DAYLIGHT
END:VTIMEZONE
END:VCALENDAR
