BEGIN:VCALENDAR
VERSION:2.0
PRODID:-//Plone.org//NONSGML plone.app.event//EN
X-WR-TIMEZONE:Europe/Madrid
BEGIN:VEVENT
SUMMARY:TARDES EUROPEAS 2024: DIÁLOGOS SOBRE LA UNIÓN EUROPEA
DTSTART;TZID=Europe/Madrid;VALUE=DATE-TIME:20240425T194500
DTEND;TZID=Europe/Madrid;VALUE=DATE-TIME:20240425T204500
DTSTAMP;VALUE=DATE-TIME:20260422T081818Z
UID:7817a476469841d495222a5fd97336a3@www.paeria.cat
CATEGORIES:Charlas y conferencias,Ciudadanía
CREATED;VALUE=DATE-TIME:20240417T102319Z
DESCRIPTION:El 25 de abril a las 19.45h tendrá lugar el primer diálogo d
 el ciclo "Tardes Europeas" del Europe Direct Lleida del Ayuntamiento de Ll
 eida sobre "La acción exterior de la Unión Europea".
LAST-MODIFIED;VALUE=DATE-TIME:20250514T132055Z
URL:https://www.paeria.cat/es/actualidad/agenda/tardes-europeas-2024-dialo
 gos-sobre-la-union-europea
END:VEVENT
BEGIN:VTIMEZONE
TZID:Europe/Madrid
X-LIC-LOCATION:Europe/Madrid
BEGIN:DAYLIGHT
DTSTART;VALUE=DATE-TIME:20240331T030000
TZNAME:CEST
TZOFFSETFROM:+0100
TZOFFSETTO:+0200
END:DAYLIGHT
END:VTIMEZONE
END:VCALENDAR
