BEGIN:VCALENDAR
VERSION:2.0
PRODID:-//Plone.org//NONSGML plone.app.event//EN
X-WR-TIMEZONE:Europe/Madrid
BEGIN:VEVENT
SUMMARY:Tertulia literaria - Els 10 d'Antoni Gelonch
DTSTART;TZID=Europe/Madrid;VALUE=DATE-TIME:20240213T180000
DTSTAMP;VALUE=DATE-TIME:20260422T144734Z
UID:e22ccedacbb04fcebe8591b1806002e0@www.paeria.cat
CATEGORIES:Libros y literatura,Cultura
CREATED;VALUE=DATE-TIME:20240212T093227Z
LAST-MODIFIED;VALUE=DATE-TIME:20240212T094714Z
URL:https://www.paeria.cat/es/actualidad/agenda/tertulia-literaria-els-10-
 dantoni-gelonch
END:VEVENT
BEGIN:VTIMEZONE
TZID:Europe/Madrid
X-LIC-LOCATION:Europe/Madrid
BEGIN:STANDARD
DTSTART;VALUE=DATE-TIME:20231029T020000
TZNAME:CET
TZOFFSETFROM:+0200
TZOFFSETTO:+0100
END:STANDARD
END:VTIMEZONE
END:VCALENDAR
