BEGIN:VCALENDAR
VERSION:2.0
PRODID:-//Plone.org//NONSGML plone.app.event//EN
X-WR-TIMEZONE:Europe/Madrid
BEGIN:VEVENT
SUMMARY:Tertulia literaria- Los 10 de Alberto Velasco
DTSTART;TZID=Europe/Madrid;VALUE=DATE-TIME:20240408T180000
DTSTAMP;VALUE=DATE-TIME:20260422T200229Z
UID:cf47e51bfde04420b0333ce0ef1e2bdb@www.paeria.cat
CATEGORIES:Libros y literatura,Cultura
CREATED;VALUE=DATE-TIME:20240326T171145Z
LAST-MODIFIED;VALUE=DATE-TIME:20240326T171155Z
URL:https://www.paeria.cat/es/actualidad/agenda/tertulia-literaria-los-10-
 de-alberto-velasco
END:VEVENT
BEGIN:VTIMEZONE
TZID:Europe/Madrid
X-LIC-LOCATION:Europe/Madrid
BEGIN:DAYLIGHT
DTSTART;VALUE=DATE-TIME:20240331T030000
TZNAME:CEST
TZOFFSETFROM:+0100
TZOFFSETTO:+0200
END:DAYLIGHT
END:VTIMEZONE
END:VCALENDAR
