BEGIN:VCALENDAR
VERSION:2.0
PRODID:-//Plone.org//NONSGML plone.app.event//EN
X-WR-TIMEZONE:Europe/Madrid
BEGIN:VEVENT
SUMMARY:Tertulia- Mujer. Palabra. Territorio. ¿Quién dice el país?
DTSTART;TZID=Europe/Madrid;VALUE=DATE-TIME:20240514T190000
DTSTAMP;VALUE=DATE-TIME:20260421T100544Z
UID:99ae8d0e11c149a3aaab94d202c00d71@www.paeria.cat
CATEGORIES:Charlas y conferencias,Cultura
CREATED;VALUE=DATE-TIME:20240506T105814Z
LAST-MODIFIED;VALUE=DATE-TIME:20240508T062225Z
URL:https://www.paeria.cat/es/actualidad/agenda/tertulia-mujer-palabra-ter
 ritorio-quien-dice-el-pais
END:VEVENT
BEGIN:VTIMEZONE
TZID:Europe/Madrid
X-LIC-LOCATION:Europe/Madrid
BEGIN:DAYLIGHT
DTSTART;VALUE=DATE-TIME:20240331T030000
TZNAME:CEST
TZOFFSETFROM:+0100
TZOFFSETTO:+0200
END:DAYLIGHT
END:VTIMEZONE
END:VCALENDAR
