BEGIN:VCALENDAR
VERSION:2.0
PRODID:-//Plone.org//NONSGML plone.app.event//EN
X-WR-TIMEZONE:Europe/Madrid
BEGIN:VEVENT
SUMMARY:Tumbalamadera. La ruta 40 + Xavier Bobés + Pau Matas
DTSTART;TZID=Europe/Madrid;VALUE=DATE-TIME:20260411T180000
DTEND;TZID=Europe/Madrid;VALUE=DATE-TIME:20260411T190000
DTSTAMP;VALUE=DATE-TIME:20260422T200605Z
UID:5e13b921da0d4293afd0034c3b6e9f9c@www.paeria.cat
CREATED;VALUE=DATE-TIME:20251127T130828Z
LAST-MODIFIED;VALUE=DATE-TIME:20251215T151059Z
URL:https://www.paeria.cat/es/actualidad/agenda/tumbalamadera-la-ruta-40-x
 avier-bobes-pau-matas
END:VEVENT
BEGIN:VTIMEZONE
TZID:Europe/Madrid
X-LIC-LOCATION:Europe/Madrid
BEGIN:DAYLIGHT
DTSTART;VALUE=DATE-TIME:20260329T030000
TZNAME:CEST
TZOFFSETFROM:+0100
TZOFFSETTO:+0200
END:DAYLIGHT
END:VTIMEZONE
END:VCALENDAR
