BEGIN:VCALENDAR
VERSION:2.0
PRODID:-//Plone.org//NONSGML plone.app.event//EN
X-WR-TIMEZONE:Europe/Madrid
BEGIN:VEVENT
SUMMARY:¡Un año más\, los centros educativos de Lleida trabajan por la 
 No Violencia y la Paz a través del DNIP!
DTSTART;TZID=Europe/Madrid;VALUE=DATE-TIME:20230130T103000
DTEND;TZID=Europe/Madrid;VALUE=DATE-TIME:20230130T120000
DTSTAMP;VALUE=DATE-TIME:20260422T135650Z
UID:ea74f4561c514d41abef99702d6343c4@www.paeria.cat
CATEGORIES:Infantil,Público,Jóvenes,Ciudadanía,Días señalados,Tallere
 s y cursos,Todos los públicos
CREATED;VALUE=DATE-TIME:20230125T101026Z
DESCRIPTION:La Coordinadora de ONGD y aMS de Lleida\, en colaboración con
  el Ayuntamiento de Lleida\, el Plan Educativo de Entorno y el Centro de A
 rte La Panera\, impulsan el DNIP en la calle\, con el objetivo de crear un
 a instalación ción artística de forma colaborativa entre los diferentes
  centros educativos de la demarcación. Una creación para reivindicar la 
 cultura de paz. La acción\, que tendrá lugar durante la mañana del lune
 s 30 de enero\, será paralela a los tres espacios\, siendo el resultado d
 el trabajo iniciado en las aulas en el mes de octubre a través de formaci
 ones y recursos educativos sobre la Comunicación No violenta. Todos los a
 gentes han trabajado juntos para elaborar una propuesta que consta de dive
 rsas actividades y que va más allá de la conmemoración del día oficial
  del DNIP (30 de enero). La temática que se aborda este año es la Comuni
 cación No Violenta como herramienta de resolución de conflictos pero tam
 bién de prevención\, devolviendo el valor a los conceptos de empatía\, 
 diálogo\, entendimiento\, escucha activa\, responsabilidad y respeto.
LAST-MODIFIED;VALUE=DATE-TIME:20250514T132055Z
URL:https://www.paeria.cat/es/actualidad/agenda/un-ano-mas-los-centros-edu
 cativos-de-lleida-trabajan-por-la-no-violencia-y-la-paz-a-traves-del-dnip
END:VEVENT
BEGIN:VTIMEZONE
TZID:Europe/Madrid
X-LIC-LOCATION:Europe/Madrid
BEGIN:STANDARD
DTSTART;VALUE=DATE-TIME:20221030T020000
TZNAME:CET
TZOFFSETFROM:+0200
TZOFFSETTO:+0100
END:STANDARD
END:VTIMEZONE
END:VCALENDAR
