BEGIN:VCALENDAR
VERSION:2.0
PRODID:-//Plone.org//NONSGML plone.app.event//EN
X-WR-TIMEZONE:Europe/Madrid
BEGIN:VEVENT
SUMMARY:Un clamor interreligioso por la paz. Coro de Cámara del Auditorio
  y Orquesta Sinfónica del Vallès
DTSTART;TZID=Europe/Madrid;VALUE=DATE-TIME:20250411T200000
DTEND;TZID=Europe/Madrid;VALUE=DATE-TIME:20250411T212000
DTSTAMP;VALUE=DATE-TIME:20260422T101318Z
UID:1343b4fd241b4694b07febbbee4133d7@www.paeria.cat
CATEGORIES:Cultura,Música,Público
CREATED;VALUE=DATE-TIME:20250121T082716Z
LAST-MODIFIED;VALUE=DATE-TIME:20250124T094848Z
URL:https://www.paeria.cat/es/actualidad/agenda/un-clamor-interreligioso-p
 or-la-paz-coro-de-camara-del-auditorio-y-orquesta-sinfonica-del-valles
END:VEVENT
BEGIN:VTIMEZONE
TZID:Europe/Madrid
X-LIC-LOCATION:Europe/Madrid
BEGIN:DAYLIGHT
DTSTART;VALUE=DATE-TIME:20250330T030000
TZNAME:CEST
TZOFFSETFROM:+0100
TZOFFSETTO:+0200
END:DAYLIGHT
END:VTIMEZONE
END:VCALENDAR
