BEGIN:VCALENDAR
VERSION:2.0
PRODID:-//Plone.org//NONSGML plone.app.event//EN
X-WR-TIMEZONE:Europe/Madrid
BEGIN:VEVENT
SUMMARY:Un coche hecho en Lleida
DTSTART;TZID=Europe/Madrid;VALUE=DATE-TIME:20260210T080000
DTEND;TZID=Europe/Madrid;VALUE=DATE-TIME:20260524T140000
DTSTAMP;VALUE=DATE-TIME:20260422T133901Z
UID:81cb8cc593484b2cb6d0dc6238235b57@www.paeria.cat
CATEGORIES:Ciencias y tecnologías,Exposiciones,Charlas y conferencias
CREATED;VALUE=DATE-TIME:20251224T080944Z
DESCRIPTION:¿Se puede hacer un coche desde cero en casa? ¿Podemos recupe
 rar la fabricación artesanal de un vehículo? Estas preguntas se las hizo
  Xavi Jiménez\, decidido a construir un coche pese a no trabajar en el mu
 ndo del automóvil. El vehículo se expone en su estado actual en el Roda 
 Roda dentro del ciclo La pieza del trimestre\, acompañado de varias charl
 as explicativas del proceso de construcción y de la automoción.
LAST-MODIFIED;VALUE=DATE-TIME:20251224T081014Z
URL:https://www.paeria.cat/es/actualidad/agenda/un-coche-hecho-en-lleida
END:VEVENT
BEGIN:VTIMEZONE
TZID:Europe/Madrid
X-LIC-LOCATION:Europe/Madrid
BEGIN:STANDARD
DTSTART;VALUE=DATE-TIME:20251026T020000
TZNAME:CET
TZOFFSETFROM:+0200
TZOFFSETTO:+0100
END:STANDARD
BEGIN:DAYLIGHT
DTSTART;VALUE=DATE-TIME:20260329T030000
TZNAME:CEST
TZOFFSETFROM:+0100
TZOFFSETTO:+0200
END:DAYLIGHT
END:VTIMEZONE
END:VCALENDAR
