BEGIN:VCALENDAR
VERSION:2.0
PRODID:-//Plone.org//NONSGML plone.app.event//EN
X-WR-TIMEZONE:Europe/Madrid
BEGIN:VEVENT
SUMMARY:Vaques Flaques. Marc Sarrats
DTSTART;TZID=Europe/Madrid;VALUE=DATE-TIME:20250404T200000
DTEND;TZID=Europe/Madrid;VALUE=DATE-TIME:20250404T213000
DTSTAMP;VALUE=DATE-TIME:20260420T074142Z
UID:None
CATEGORIES:Cultura,Teatro,Adulto
CREATED;VALUE=DATE-TIME:20250121T125147Z
LAST-MODIFIED;VALUE=DATE-TIME:20250124T081648Z
URL:https://www.paeria.cat/es/actualidad/agenda/vaques-flaques-marc-sarrat
 s
END:VEVENT
BEGIN:VTIMEZONE
TZID:Europe/Madrid
X-LIC-LOCATION:Europe/Madrid
BEGIN:DAYLIGHT
DTSTART;VALUE=DATE-TIME:20250330T030000
TZNAME:CEST
TZOFFSETFROM:+0100
TZOFFSETTO:+0200
END:DAYLIGHT
END:VTIMEZONE
END:VCALENDAR
