BEGIN:VCALENDAR
VERSION:2.0
PRODID:-//Plone.org//NONSGML plone.app.event//EN
X-WR-TIMEZONE:Europe/Madrid
BEGIN:VEVENT
SUMMARY:Velada literaria. I Recopilación de Relatos «Soledad Estorach».
DTSTART;TZID=Europe/Madrid;VALUE=DATE-TIME:20240315T183000
DTSTAMP;VALUE=DATE-TIME:20260422T080345Z
UID:b130fea01c9d4b7a826e14600297b812@www.paeria.cat
CATEGORIES:Libros y literatura,Cultura
CREATED;VALUE=DATE-TIME:20240305T082904Z
LAST-MODIFIED;VALUE=DATE-TIME:20240305T082917Z
URL:https://www.paeria.cat/es/actualidad/agenda/velada-literaria-i-recopil
 acion-de-relatos-soledad-estorach
END:VEVENT
BEGIN:VTIMEZONE
TZID:Europe/Madrid
X-LIC-LOCATION:Europe/Madrid
BEGIN:STANDARD
DTSTART;VALUE=DATE-TIME:20231029T020000
TZNAME:CET
TZOFFSETFROM:+0200
TZOFFSETTO:+0100
END:STANDARD
END:VTIMEZONE
END:VCALENDAR
