BEGIN:VCALENDAR
VERSION:2.0
PRODID:-//Plone.org//NONSGML plone.app.event//EN
X-WR-TIMEZONE:Europe/Madrid
BEGIN:VEVENT
SUMMARY:Vermut Fatal – Fiesta de la lectura 2024
DTSTART;TZID=Europe/Madrid;VALUE=DATE-TIME:20240420T120000
DTSTAMP;VALUE=DATE-TIME:20260423T072912Z
UID:bd117db9cdf54f7e8efb2875f4eccfc6@www.paeria.cat
CATEGORIES:Libros y literatura,Cultura
CREATED;VALUE=DATE-TIME:20240401T150706Z
LAST-MODIFIED;VALUE=DATE-TIME:20240408T110132Z
URL:https://www.paeria.cat/es/actualidad/agenda/vermut-fatal-2013-fiesta-d
 e-la-lectura-2024
END:VEVENT
BEGIN:VTIMEZONE
TZID:Europe/Madrid
X-LIC-LOCATION:Europe/Madrid
BEGIN:DAYLIGHT
DTSTART;VALUE=DATE-TIME:20240331T030000
TZNAME:CEST
TZOFFSETFROM:+0100
TZOFFSETTO:+0200
END:DAYLIGHT
END:VTIMEZONE
END:VCALENDAR
