BEGIN:VCALENDAR
VERSION:2.0
PRODID:-//Plone.org//NONSGML plone.app.event//EN
X-WR-TIMEZONE:Europe/Madrid
BEGIN:VEVENT
SUMMARY:VESPRES EN VERS - Juanjo Manau con el recital "Temps per compartir
 "
DTSTART;TZID=Europe/Madrid;VALUE=DATE-TIME:20250917T190000
DTEND;TZID=Europe/Madrid;VALUE=DATE-TIME:20250917T200000
DTSTAMP;VALUE=DATE-TIME:20260423T001747Z
UID:86a053c5234f45e2afe4cd77feebb92c@www.paeria.cat
CATEGORIES:Cultura,Libros y literatura
CREATED;VALUE=DATE-TIME:20250618T094307Z
LAST-MODIFIED;VALUE=DATE-TIME:20250915T090228Z
URL:https://www.paeria.cat/es/actualidad/agenda/vespres-en-vers-juanjo-man
 au-amb-el-recital-temps-per-compartir
END:VEVENT
BEGIN:VTIMEZONE
TZID:Europe/Madrid
X-LIC-LOCATION:Europe/Madrid
BEGIN:DAYLIGHT
DTSTART;VALUE=DATE-TIME:20250330T030000
TZNAME:CEST
TZOFFSETFROM:+0100
TZOFFSETTO:+0200
END:DAYLIGHT
END:VTIMEZONE
END:VCALENDAR
