BEGIN:VCALENDAR
VERSION:2.0
PRODID:-//Plone.org//NONSGML plone.app.event//EN
X-WR-TIMEZONE:Europe/Madrid
BEGIN:VEVENT
SUMMARY:VESPRES EN VERS - Xavier García en el recuerdo "Allí on siguis\,
  que soni Camarón"
DTSTART;TZID=Europe/Madrid;VALUE=DATE-TIME:20251112T190000
DTEND;TZID=Europe/Madrid;VALUE=DATE-TIME:20251112T200000
DTSTAMP;VALUE=DATE-TIME:20260423T022429Z
UID:887e019d441d46e7b21910fc06c50337@www.paeria.cat
CATEGORIES:Libros y literatura,Cultura
CREATED;VALUE=DATE-TIME:20250618T095724Z
LAST-MODIFIED;VALUE=DATE-TIME:20251110T102606Z
URL:https://www.paeria.cat/es/actualidad/agenda/vespres-en-vers-xavier-gar
 cia-en-el-recuerdo-alli-on-siguis-que-soni-camaron
END:VEVENT
BEGIN:VTIMEZONE
TZID:Europe/Madrid
X-LIC-LOCATION:Europe/Madrid
BEGIN:STANDARD
DTSTART;VALUE=DATE-TIME:20251026T020000
TZNAME:CET
TZOFFSETFROM:+0200
TZOFFSETTO:+0100
END:STANDARD
END:VTIMEZONE
END:VCALENDAR
