BEGIN:VCALENDAR
VERSION:2.0
PRODID:-//Plone.org//NONSGML plone.app.event//EN
X-WR-TIMEZONE:Europe/Madrid
BEGIN:VEVENT
SUMMARY:VIII Muestra de cortometrajes por la donación de órganos
DTSTART;TZID=Europe/Madrid;VALUE=DATE-TIME:20240603T110000
DTSTAMP;VALUE=DATE-TIME:20260423T002523Z
UID:8faa655a96a94697aa91999f16800a8f@www.paeria.cat
CATEGORIES:Audiovisuales,Cine y vídeo,Cultura
CREATED;VALUE=DATE-TIME:20240530T063400Z
LAST-MODIFIED;VALUE=DATE-TIME:20240530T063408Z
URL:https://www.paeria.cat/es/actualidad/agenda/viii-muestra-de-cortometra
 jes-por-la-donacion-de-organos
END:VEVENT
BEGIN:VTIMEZONE
TZID:Europe/Madrid
X-LIC-LOCATION:Europe/Madrid
BEGIN:DAYLIGHT
DTSTART;VALUE=DATE-TIME:20240331T030000
TZNAME:CEST
TZOFFSETFROM:+0100
TZOFFSETTO:+0200
END:DAYLIGHT
END:VTIMEZONE
END:VCALENDAR
