BEGIN:VCALENDAR
VERSION:2.0
PRODID:-//Plone.org//NONSGML plone.app.event//EN
X-WR-TIMEZONE:Europe/Madrid
BEGIN:VEVENT
SUMMARY:Visita a una instalación fotovoltaica de autoconsumo con almacena
 miento
DTSTART;TZID=Europe/Madrid;VALUE=DATE-TIME:20261018T110000
DTEND;TZID=Europe/Madrid;VALUE=DATE-TIME:20261018T130000
DTSTAMP;VALUE=DATE-TIME:20260422T134734Z
UID:e970c4d3f6af4ba18a9a783e824c1aea@www.paeria.cat
CATEGORIES:Adulto,Itinerarios y visitas
CREATED;VALUE=DATE-TIME:20260408T113123Z
DESCRIPTION:Ecoactividades 2026
LAST-MODIFIED;VALUE=DATE-TIME:20260408T113148Z
URL:https://www.paeria.cat/es/actualidad/agenda/visita-a-una-instalacion-f
 otovoltaica-de-autoconsumo-con-almacenamiento
END:VEVENT
BEGIN:VTIMEZONE
TZID:Europe/Madrid
X-LIC-LOCATION:Europe/Madrid
BEGIN:DAYLIGHT
DTSTART;VALUE=DATE-TIME:20260329T030000
TZNAME:CEST
TZOFFSETFROM:+0100
TZOFFSETTO:+0200
END:DAYLIGHT
END:VTIMEZONE
END:VCALENDAR
