BEGIN:VCALENDAR
VERSION:2.0
PRODID:-//Plone.org//NONSGML plone.app.event//EN
X-WR-TIMEZONE:Europe/Madrid
BEGIN:VEVENT
SUMMARY:Visita comentada a la exposición- La Fiesta Mayor de Roig Nadal. 
 Lleida\, 1947-1991
DTSTART;TZID=Europe/Madrid;VALUE=DATE-TIME:20240708T190000
DTSTAMP;VALUE=DATE-TIME:20260422T165954Z
UID:ffbf10f037584d2192d76d0637624754@www.paeria.cat
CATEGORIES:Itinerarios y visitas,Exposiciones,Cultura
CREATED;VALUE=DATE-TIME:20240702T173401Z
LAST-MODIFIED;VALUE=DATE-TIME:20240702T173407Z
URL:https://www.paeria.cat/es/actualidad/agenda/visita-comentada-a-la-expo
 sicion-la-fiesta-mayor-de-roig-nadal-lleida-1947-1991
END:VEVENT
BEGIN:VTIMEZONE
TZID:Europe/Madrid
X-LIC-LOCATION:Europe/Madrid
BEGIN:DAYLIGHT
DTSTART;VALUE=DATE-TIME:20240331T030000
TZNAME:CEST
TZOFFSETFROM:+0100
TZOFFSETTO:+0200
END:DAYLIGHT
END:VTIMEZONE
END:VCALENDAR
