BEGIN:VCALENDAR
VERSION:2.0
PRODID:-//Plone.org//NONSGML plone.app.event//EN
X-WR-TIMEZONE:Europe/Madrid
BEGIN:VEVENT
SUMMARY:Visita dinamizada: Templario por un día
DTSTART;TZID=Europe/Madrid;VALUE=DATE-TIME:20261108T120000
DTEND;TZID=Europe/Madrid;VALUE=DATE-TIME:20261108T133000
DTSTAMP;VALUE=DATE-TIME:20260422T100825Z
UID:9e46312ffb904cd69d5ad3ee710671a5@www.paeria.cat
CATEGORIES:Itinerarios y visitas,Todos los públicos,Familiar,Turista
CREATED;VALUE=DATE-TIME:20231128T101755Z
LAST-MODIFIED;VALUE=DATE-TIME:20260415T085803Z
URL:https://www.paeria.cat/es/actualidad/agenda/visita-dinamizada-templari
 o-por-un-dia/2026-11-08
END:VEVENT
BEGIN:VTIMEZONE
TZID:Europe/Madrid
X-LIC-LOCATION:Europe/Madrid
BEGIN:STANDARD
DTSTART;VALUE=DATE-TIME:20261025T020000
TZNAME:CET
TZOFFSETFROM:+0200
TZOFFSETTO:+0100
END:STANDARD
END:VTIMEZONE
END:VCALENDAR
