BEGIN:VCALENDAR
VERSION:2.0
PRODID:-//Plone.org//NONSGML plone.app.event//EN
X-WR-TIMEZONE:Europe/Madrid
BEGIN:VEVENT
SUMMARY:Visita guiada a “Nueva Pantalla. El videojuego en Cataluña” a
  cargo de Albert García\, comisario de la exposición
DTSTART;TZID=Europe/Madrid;VALUE=DATE-TIME:20240507T183000
DTSTAMP;VALUE=DATE-TIME:20260422T223130Z
UID:c4eefbb455dc49a0b7f6c31537a62595@www.paeria.cat
CATEGORIES:Audiovisuales,Cultura
CREATED;VALUE=DATE-TIME:20240506T113531Z
LAST-MODIFIED;VALUE=DATE-TIME:20240506T113708Z
URL:https://www.paeria.cat/es/actualidad/agenda/visita-guiada-a-201cnueva-
 pantalla-el-videojuego-en-cataluna201d-a-cargo-de-albert-garcia-comisario-
 de-la-exposicion
END:VEVENT
BEGIN:VTIMEZONE
TZID:Europe/Madrid
X-LIC-LOCATION:Europe/Madrid
BEGIN:DAYLIGHT
DTSTART;VALUE=DATE-TIME:20240331T030000
TZNAME:CEST
TZOFFSETFROM:+0100
TZOFFSETTO:+0200
END:DAYLIGHT
END:VTIMEZONE
END:VCALENDAR
