BEGIN:VCALENDAR
VERSION:2.0
PRODID:-//Plone.org//NONSGML plone.app.event//EN
X-WR-TIMEZONE:Europe/Madrid
BEGIN:VEVENT
SUMMARY:Visita guiada a la exposición "40 años sin callarnos" con Greenp
 eace Lleida
DTSTART;TZID=Europe/Madrid;VALUE=DATE-TIME:20251123T125000
DTEND;TZID=Europe/Madrid;VALUE=DATE-TIME:20251123T133000
DTSTAMP;VALUE=DATE-TIME:20260422T183459Z
UID:183b5779e83249ef9e17bafd47952e8f@www.paeria.cat
CATEGORIES:Adulto,Exposiciones,Ciudadanía
CREATED;VALUE=DATE-TIME:20251106T110451Z
DESCRIPTION:El domingo 23 de noviembre de 2025\, a las 12.50 h\, el Teatro
  de la Lonja de Lleida acogerá una visita guiada a la exposición "40 añ
 os sin callarnos"\, a cargo de las voluntarias de Greenpeace Lleida. Esta 
 muestra repasa cuatro décadas de activismo ambiental de Greenpeace\, dest
 acando sus principales campañas por la defensa del planeta\, la biodivers
 idad y la justicia climática. La visita permitirá conocer de cerca el im
 pacto de este trabajo y reflexionar sobre los actuales retos medioambienta
 les. La actividad se enmarca dentro del ciclo Cinemón Xic 2025\, que prom
 ueve valores como la solidaridad\, el respeto y el cuidado del medio ambie
 nte. Entrada libre y abierta a todo el mundo.
LAST-MODIFIED;VALUE=DATE-TIME:20251113T105221Z
URL:https://www.paeria.cat/es/actualidad/agenda/visita-guiada-a-la-exposic
 ion-40-anos-sin-callarnos-con-greenpeace-lleida
END:VEVENT
BEGIN:VTIMEZONE
TZID:Europe/Madrid
X-LIC-LOCATION:Europe/Madrid
BEGIN:STANDARD
DTSTART;VALUE=DATE-TIME:20251026T020000
TZNAME:CET
TZOFFSETFROM:+0200
TZOFFSETTO:+0100
END:STANDARD
END:VTIMEZONE
END:VCALENDAR
