BEGIN:VCALENDAR
VERSION:2.0
PRODID:-//Plone.org//NONSGML plone.app.event//EN
X-WR-TIMEZONE:Europe/Madrid
BEGIN:VEVENT
SUMMARY:VOCES DESENTERRADAS. UNA MIRADA EN LAS FOSAS DE LA GUERRA CIVIL
DTSTART;TZID=Europe/Madrid;VALUE=DATE-TIME:20230518T190000
DTSTAMP;VALUE=DATE-TIME:20260422T085454Z
UID:838313090e3c4b4fa2905b954ad0b4b4@www.paeria.cat
CREATED;VALUE=DATE-TIME:20230509T072110Z
DESCRIPTION:Debates de Memoria
LAST-MODIFIED;VALUE=DATE-TIME:20230515T072622Z
URL:https://www.paeria.cat/es/actualidad/agenda/voces-desenterradas-una-mi
 rada-en-las-fosas-de-la-guerra-civil
END:VEVENT
BEGIN:VTIMEZONE
TZID:Europe/Madrid
X-LIC-LOCATION:Europe/Madrid
BEGIN:DAYLIGHT
DTSTART;VALUE=DATE-TIME:20230326T030000
TZNAME:CEST
TZOFFSETFROM:+0100
TZOFFSETTO:+0200
END:DAYLIGHT
END:VTIMEZONE
END:VCALENDAR
