BEGIN:VCALENDAR
VERSION:2.0
PRODID:-//Plone.org//NONSGML plone.app.event//EN
X-WR-TIMEZONE:Europe/Madrid
BEGIN:VEVENT
SUMMARY:XVI edición de la FIESTA DE LA MÚSICA
DTSTART;VALUE=DATE:20230617
DTEND;VALUE=DATE:20230618
DTSTAMP;VALUE=DATE-TIME:20260422T200556Z
UID:7723f92a73ba4e66bf531727f10d8ea2@www.paeria.cat
CATEGORIES:Público,Música,Cultura,Cultura popular,Familiar
CREATED;VALUE=DATE-TIME:20230614T080439Z
DESCRIPTION:Fiesta de la música. Lleida 2023. 16a edición. Celebramos la
  Fiesta de la Música en la calle. La celebración tendrá lugar el sábad
 o\, 17 de junio\, durante todo el día. Único escenario en la calle Pi i 
 Margall (junto al Auditori)
LAST-MODIFIED;VALUE=DATE-TIME:20250514T115207Z
URL:https://www.paeria.cat/es/actualidad/agenda/xvi-edicion-de-la-fiesta-d
 e-la-musica
END:VEVENT
END:VCALENDAR
