BEGIN:VCALENDAR
VERSION:2.0
PRODID:-//Plone.org//NONSGML plone.app.event//EN
X-WR-TIMEZONE:Europe/Madrid
BEGIN:VEVENT
SUMMARY:XXXVI FEMINARIO- La fotografía documental con una mirada feminist
 a
DTSTART;TZID=Europe/Madrid;VALUE=DATE-TIME:20241109T103000
DTSTAMP;VALUE=DATE-TIME:20260422T121755Z
UID:a628cda1494e4cb7a28e1e8f209c6d10@www.paeria.cat
CATEGORIES:Charlas y conferencias,Mujer,Cultura
CREATED;VALUE=DATE-TIME:20241105T071628Z
LAST-MODIFIED;VALUE=DATE-TIME:20241105T071644Z
URL:https://www.paeria.cat/es/actualidad/agenda/xxxvi-feminario-la-fotogra
 fia-documental-con-una-mirada-feminista
END:VEVENT
BEGIN:VTIMEZONE
TZID:Europe/Madrid
X-LIC-LOCATION:Europe/Madrid
BEGIN:STANDARD
DTSTART;VALUE=DATE-TIME:20241027T020000
TZNAME:CET
TZOFFSETFROM:+0200
TZOFFSETTO:+0100
END:STANDARD
END:VTIMEZONE
END:VCALENDAR
